BEGIN:VCALENDAR
VERSION:2.0
PRODID:-//Quickborn-AK - ECPv6.15.20//NONSGML v1.0//EN
CALSCALE:GREGORIAN
METHOD:PUBLISH
X-ORIGINAL-URL:https://www.quickborn-ak.de
X-WR-CALDESC:Veranstaltungen für Quickborn-AK
REFRESH-INTERVAL;VALUE=DURATION:PT1H
X-Robots-Tag:noindex
X-PUBLISHED-TTL:PT1H
BEGIN:VTIMEZONE
TZID:Europe/Berlin
BEGIN:DAYLIGHT
TZOFFSETFROM:+0100
TZOFFSETTO:+0200
TZNAME:CEST
DTSTART:20160327T010000
END:DAYLIGHT
BEGIN:STANDARD
TZOFFSETFROM:+0200
TZOFFSETTO:+0100
TZNAME:CET
DTSTART:20161030T010000
END:STANDARD
BEGIN:DAYLIGHT
TZOFFSETFROM:+0100
TZOFFSETTO:+0200
TZNAME:CEST
DTSTART:20170326T010000
END:DAYLIGHT
BEGIN:STANDARD
TZOFFSETFROM:+0200
TZOFFSETTO:+0100
TZNAME:CET
DTSTART:20171029T010000
END:STANDARD
BEGIN:DAYLIGHT
TZOFFSETFROM:+0100
TZOFFSETTO:+0200
TZNAME:CEST
DTSTART:20180325T010000
END:DAYLIGHT
BEGIN:STANDARD
TZOFFSETFROM:+0200
TZOFFSETTO:+0100
TZNAME:CET
DTSTART:20181028T010000
END:STANDARD
END:VTIMEZONE
BEGIN:VEVENT
DTSTART;VALUE=DATE:20170604
DTEND;VALUE=DATE:20170605
DTSTAMP:20260423T194859
CREATED:20190216T113753Z
LAST-MODIFIED:20260105T224531Z
UID:6709-1496534400-1496620799@www.quickborn-ak.de
SUMMARY:Festakt zum 50-jährigen Bestehen des Quickborn Arbeitskreises im Rahmen der Rothenfelser Pfingsttagung
DESCRIPTION:50 Jahre Quickborn Arbeitskreis – Festakt\n\nBitte beachten Sie auch die Informationen zur Pfingsttagung auf Burg Rothenfels. \n\nFremde – hier! Rothenfelser Pfingsttagung vom 2.-5.6.2017\nDie Fremdenangst geht um. Woher kommen die urtümlichen Instinkte? Gelten die Ängste auch dem Fremden in uns selbst? Wie empfinden die Fremden die Fremde bei uns? Mit Dr. Gotthard Fuchs\, Prof. Dr. Joachim Negel u.a. \n\nAnmeldung über die Webseite der Burg Rothenfels
URL:https://www.quickborn-ak.de/event/festakt-zum-50-jaehrigen-bestehen-des-quickborn-arbeitskreises-im-rahmen-der-rothenfelser-pfingsttagung/
LOCATION:Burg Rothenfels\, Bergrothenfelser Str. 71\, Rothenfels\, Bayern\, 97851
CATEGORIES:Veranstaltungen auf der Burg
ATTACH;FMTTYPE=image/jpeg:https://www.quickborn-ak.de/wp-content/uploads/g121f1090358adb135eaacf94d622ed2a9cf2d66bb8d77cc881e33d13218dce4c558e1cf6c70a0f78b2f9994bc4b20a03_1280-622431.jpg
END:VEVENT
END:VCALENDAR