BEGIN:VCALENDAR
VERSION:2.0
PRODID:-//Quickborn-AK - ECPv6.15.20//NONSGML v1.0//EN
CALSCALE:GREGORIAN
METHOD:PUBLISH
X-ORIGINAL-URL:https://www.quickborn-ak.de
X-WR-CALDESC:Veranstaltungen für Quickborn-AK
REFRESH-INTERVAL;VALUE=DURATION:PT1H
X-Robots-Tag:noindex
X-PUBLISHED-TTL:PT1H
BEGIN:VTIMEZONE
TZID:Europe/Berlin
BEGIN:DAYLIGHT
TZOFFSETFROM:+0100
TZOFFSETTO:+0200
TZNAME:CEST
DTSTART:20240331T010000
END:DAYLIGHT
BEGIN:STANDARD
TZOFFSETFROM:+0200
TZOFFSETTO:+0100
TZNAME:CET
DTSTART:20241027T010000
END:STANDARD
BEGIN:DAYLIGHT
TZOFFSETFROM:+0100
TZOFFSETTO:+0200
TZNAME:CEST
DTSTART:20250330T010000
END:DAYLIGHT
BEGIN:STANDARD
TZOFFSETFROM:+0200
TZOFFSETTO:+0100
TZNAME:CET
DTSTART:20251026T010000
END:STANDARD
BEGIN:DAYLIGHT
TZOFFSETFROM:+0100
TZOFFSETTO:+0200
TZNAME:CEST
DTSTART:20260329T010000
END:DAYLIGHT
BEGIN:STANDARD
TZOFFSETFROM:+0200
TZOFFSETTO:+0100
TZNAME:CET
DTSTART:20261025T010000
END:STANDARD
END:VTIMEZONE
BEGIN:VEVENT
DTSTART;VALUE=DATE:20250824
DTEND;VALUE=DATE:20250901
DTSTAMP:20260425T033833
CREATED:20250530T122456Z
LAST-MODIFIED:20260106T081628Z
UID:11823-1755993600-1756684799@www.quickborn-ak.de
SUMMARY:Augustwoche der Quickborn-Älterengemeinschaft - Gerechter Krieg - Gerechter Friede?
DESCRIPTION:Gerechter Krieg – Gerechter Friede?\nEinladung zur Augustwoche der Quickborn-Älterengemeinschaft \n\n\n\n\n\nDie Quickborn-Älterengemeinschaft lädt zur Augustwoche ein. Auch Freunde und jüngere Interessentinnen und Interessenten sind herzlich eingeladen\, das brisante Thema in Vorträgen und Gesprächen zu erarbeiten. \nDie Referierenden: \n\nProf. em. Dr. Heinz-Günther Stobbe\nDr. Ludwig Rendle\nDr. Thomas Wagner\nClemens Ronnefeldt\n\nDie thematische Arbeit wird eingebettet in zahlreiche Freizeitaktivitäten: Singen\, Tanzen\, Literaturkreis\, Gestalten\, Gymnastik und ein Ausflug nach Wertheim sind geplant. \n\n\nAnmeldung & Downloads\nAnmeldung bitte bis 30. Juni 2025 an: ursulasmith42@gmail.com \nNähere Informationen zu Kosten\, Anmeldung und Ablauf finden sich in der Einladung\, die hier zum Download bereitsteht: \n\n\n\n    \n        \n            \n            \n                2025_08_24 Augustwoche\n                 1 Datei(en)  1.89 MB\n            \n            \n                Download\n            \n        \n    \n\n\n\n 
URL:https://www.quickborn-ak.de/event/augustwoche-der-quickborn-aelterengemeinschaft-gerechter-krieg-gerechter-friede/
LOCATION:Burg Rothenfels\, Bergrothenfelser Str. 71\, Rothenfels\, Bayern\, 97851
CATEGORIES:Treffen des Quickborn-Älterenbundes,Veranstaltungen auf der Burg,Werkwoche Älterengemeinschaft
ATTACH;FMTTYPE=image/png:https://www.quickborn-ak.de/wp-content/uploads/Krieg-und-Frieden-3a.png
END:VEVENT
END:VCALENDAR