BEGIN:VCALENDAR
VERSION:2.0
PRODID:-//Quickborn-AK - ECPv6.15.20//NONSGML v1.0//EN
CALSCALE:GREGORIAN
METHOD:PUBLISH
X-ORIGINAL-URL:https://www.quickborn-ak.de
X-WR-CALDESC:Veranstaltungen für Quickborn-AK
REFRESH-INTERVAL;VALUE=DURATION:PT1H
X-Robots-Tag:noindex
X-PUBLISHED-TTL:PT1H
BEGIN:VTIMEZONE
TZID:Europe/Berlin
BEGIN:DAYLIGHT
TZOFFSETFROM:+0100
TZOFFSETTO:+0200
TZNAME:CEST
DTSTART:20240331T010000
END:DAYLIGHT
BEGIN:STANDARD
TZOFFSETFROM:+0200
TZOFFSETTO:+0100
TZNAME:CET
DTSTART:20241027T010000
END:STANDARD
BEGIN:DAYLIGHT
TZOFFSETFROM:+0100
TZOFFSETTO:+0200
TZNAME:CEST
DTSTART:20250330T010000
END:DAYLIGHT
BEGIN:STANDARD
TZOFFSETFROM:+0200
TZOFFSETTO:+0100
TZNAME:CET
DTSTART:20251026T010000
END:STANDARD
BEGIN:DAYLIGHT
TZOFFSETFROM:+0100
TZOFFSETTO:+0200
TZNAME:CEST
DTSTART:20260329T010000
END:DAYLIGHT
BEGIN:STANDARD
TZOFFSETFROM:+0200
TZOFFSETTO:+0100
TZNAME:CET
DTSTART:20261025T010000
END:STANDARD
END:VTIMEZONE
BEGIN:VEVENT
DTSTART;VALUE=DATE:20250528
DTEND;VALUE=DATE:20250602
DTSTAMP:20260425T175704
CREATED:20240925T192429Z
LAST-MODIFIED:20260104T155724Z
UID:11683-1748390400-1748822399@www.quickborn-ak.de
SUMMARY:Himmelfahrtstagung – Die Entstehung des Christentums
DESCRIPTION:Die Entstehung des Christentums\n\n\n\nZu Himmelfahrt 2025 lädt der Quickborn-Arbeitskreis zur jährlichen Tagung auf die historische Burg Rothenfels ein. Unter dem Thema „Die Entstehung des Christentums“ werden wir uns mit den Ursprüngen und der frühen Entwicklung einer der einflussreichsten Religionen der Welt auseinandersetzen. \n\n\n\nDas Christentum war seit seinen Anfängen von verschiedenen Strömungen geprägt. Das ist bereits im Neuen Testament zu erkennen und setzt sich danach im antiken Christentum fort. Christliche Lehrer und Gruppen vertraten unterschiedliche\, mitunter auch gegensätzliche Auffassungen darüber\, wie der christliche Glaube inhaltlich formuliert und im Alltag gelebt werden soll. Das ist in der Gegenwart nicht anders. Was aber ist dann das Verbindende\, das alle Christen miteinander teilen? Wie lassen sich Einheit und Vielfalt des Christentums zueinander ins Verhältnis setzen? Was bedeutet es für heutiges Verständnis von Christsein – etwa im Blick auf die eigene Konfession und das Verhältnis zu anderen Konfessionen? Über diese Fragen wollen wir auf der Tagung gemeinsam nachdenken und nach Antworten suchen\, die uns unser Christsein in der Gegenwart zu verstehen helfen. \n\n\n\nTagungsinhalte:\n\n\n\n\nChristentum – Definition und UrsprüngeWas verstehen wir eigentlich unter dem Begriff „Christentum“? War das frühe Christentum tatsächlich eine eigenständige Religion\, oder handelt es sich um verschiedene Bewegungen\, die parallel zueinander existierten? Wir werden diese Fragen erörtern und den Begriff der Religionspolitik im Kontext der antiken Welt beleuchten.\n\n\n\nDie Entstehung der Bibel im Lichte neuer wissenschaftlicher ErkenntnisseNeueste Forschungen werfen ein frisches Licht auf die Entstehungsgeschichte der Bibel. Welche Texte wurden aufgenommen\, welche ausgeschlossen und warum? Wir werden uns mit den historischen\, theologischen und politischen Prozessen beschäftigen\, die zur Formierung des biblischen Kanons führten.\n\n\n\nDie Rolle der Frauen in der Frühzeit des ChristentumsDie Rolle der Frauen in der frühen christlichen Gemeinschaft wird oft übersehen. Wir wollen uns mit der Frage auseinandersetzen\, welche Positionen Frauen in den frühen christlichen Gemeinden einnahmen und wie sie das frühe Christentum mitgestaltet haben.\n\n\n\n\nDiese Tagung bietet nicht nur die Möglichkeit\, in die historischen Wurzeln des Christentums einzutauchen\, sondern auch Raum für Diskussion und Austausch über diese Themen. Die besondere Atmosphäre der Burg Rothenfels wird uns dabei als inspirierender Ort für gemeinsames Lernen und Nachdenken dienen. \n\n\n\nRahmenprogramm\n\n\n\nNeben Vorträgen und Diskussionen wird es auch Zeit für Kreativität\, Austausch und Spaziergänge in der malerischen Umgebung von Burg Rothenfels geben. \n\n\n\nWir freuen uns auf Ihre Teilnahme und anregende Gespräche! \n\n\n\nReferent\n\n\n\n\n\n\n\n\n\n\n\nJens Schröter ist Professor für Neues Testament und antike christliche Apokryphen an der Theologischen Fakultät der Humboldt-Universität zu Berlin. Seine Forschungsschwerpunkte sind: Historischer Jesus; kanonische und apokryphe Schriften des antiken. Christentums; Entstehung des Christentums in den ersten drei Jahrhunderten; Entstehung der christlichen Bibel. \n\n\n\n\n\nNeuere Publikationen: \n\n\n\n\nArbeitsbuch zum Neuen Testament\, von Andreas Lindemann\, Jens Schröter\, Konrad Schwarz\, 15.\, vollständig überarbeitete und aktualisierte Auflage\, Tübingen: Mohr Siebeck\, 2024.\n\n\n\nDie Entstehung des Christentums. Von den Anfängen bis zu Konstantin dem Großen\, München: C.H. Beck\, 2024.\n\n\n\nDie Pharisäer. Geschichte und Bedeutung\, hg. von Joseph Sievers\, Amy-Jill Levin\, Jens Schröter\, Freiburg: Herder\, 2024.\n\n\n\nPaulusmemoria und Paulusexegese. Römische Begegnungen\, hg. von Jörg Frey\, Jens Schröter\, Martin Wallraff\, Tübingen: Mohr Siebeck\, 2023.\n\n\n\nThe Jesus Handbook\, ed. by Jens Schröter and Christine Jacobi\, Grand Rapids: Eerdmans\, 2022 (deutsch: Jesus Handbuch\, Tübingen: Mohr Siebeck\, 2017).\n\n\n\nThe Making of the Bible. From the First Fragments to Sacred Scripture\, by Konrad Schmid\, Jens Schröter\, Cambridge\, MA and London\, UK: Harvard University Press\, 2021 (deutsch: Die Entstehung der Bibel. Von den ersten Texten zu den Heiligen Schriften\, München: C.H. Beck\, 2019; Paperback 2022\, 2024).\n\n\n\n\nÜber die Tagung\n\n\n\nGemeinsam mit Kindern\, Jugendlichen und Erwachsenen ein verlängertes Wochenende auf der Burg im Frühling erleben! Es treffen sich rund 40 Teilnehmer*innen und verbringen die Zeit gemeinsam. \n\n\n\nDie Kinder erleben die Burg in der Zeit als großen Spielplatz. Je nach Anzahl und Alter der Kinder\, werden sie während der thematischen Einheiten betreut.  Es bleibt auch viel Freiraum mit den anderen Teilnehmenden die Zeit auf der Burg zu genießen. Die Umgebung lädt zu Spaziergängen ein. Unter der Linde sitzen und die Seele baumeln lassen\, gemeinsam Singen oder Stricken\, dafür ist Zeit. Eine abendliche Meditation und Gottesdienste runden das Ganze ab. \n\n\n\nDie Tagung beginnt am Mittwoch\, 28. Mai 2025 mit einem gemütlichen Abend. Sie endet am Sonntag\, 1. Juni 2025 mit dem Mittagessen. \n\n\n\nDie Kosten für die gesamte Tagung betragen für: \n\n\n\n\nErwachsene im Einzel- oder Doppelzimmer                  335\,00 €\n\n\n\nErwachsene im Familienzimmer                                       310\,00 €\n\n\n\nErwachsene in der Jugendherberge                                230\,00 €\n\n\n\nJugendliche (14-26 Jahre)                                                  165\,00 €\n\n\n\nKinder (6-13 Jahre)                                                              130\,00 €\n\n\n\nKinder bis 5 Jahre                                                              frei
URL:https://www.quickborn-ak.de/event/himmelfahrtstagung-die-entstehung-des-christentums/
LOCATION:Burg Rothenfels\, Bergrothenfelser Str. 71\, Rothenfels\, Bayern\, 97851
CATEGORIES:Himmelfahrtstagung,Veranstaltungen auf der Burg
ATTACH;FMTTYPE=image/jpeg:https://www.quickborn-ak.de/wp-content/uploads/2025-Himmelfahrt-Design-Bild.jpg
ORGANIZER;CN="Quickborn Arbeitskreis":MAILTO:info@quickborn-ak.de
END:VEVENT
END:VCALENDAR