BEGIN:VCALENDAR
VERSION:2.0
PRODID:-//Quickborn-AK - ECPv6.15.20//NONSGML v1.0//EN
CALSCALE:GREGORIAN
METHOD:PUBLISH
X-ORIGINAL-URL:https://www.quickborn-ak.de
X-WR-CALDESC:Veranstaltungen für Quickborn-AK
REFRESH-INTERVAL;VALUE=DURATION:PT1H
X-Robots-Tag:noindex
X-PUBLISHED-TTL:PT1H
BEGIN:VTIMEZONE
TZID:Europe/Berlin
BEGIN:DAYLIGHT
TZOFFSETFROM:+0100
TZOFFSETTO:+0200
TZNAME:CEST
DTSTART:20170326T010000
END:DAYLIGHT
BEGIN:STANDARD
TZOFFSETFROM:+0200
TZOFFSETTO:+0100
TZNAME:CET
DTSTART:20171029T010000
END:STANDARD
BEGIN:DAYLIGHT
TZOFFSETFROM:+0100
TZOFFSETTO:+0200
TZNAME:CEST
DTSTART:20180325T010000
END:DAYLIGHT
BEGIN:STANDARD
TZOFFSETFROM:+0200
TZOFFSETTO:+0100
TZNAME:CET
DTSTART:20181028T010000
END:STANDARD
BEGIN:DAYLIGHT
TZOFFSETFROM:+0100
TZOFFSETTO:+0200
TZNAME:CEST
DTSTART:20190331T010000
END:DAYLIGHT
BEGIN:STANDARD
TZOFFSETFROM:+0200
TZOFFSETTO:+0100
TZNAME:CET
DTSTART:20191027T010000
END:STANDARD
END:VTIMEZONE
BEGIN:VEVENT
DTSTART;VALUE=DATE:20180309
DTEND;VALUE=DATE:20180312
DTSTAMP:20260421T220917
CREATED:20190216T120602Z
LAST-MODIFIED:20260105T201643Z
UID:6729-1520553600-1520812799@www.quickborn-ak.de
SUMMARY:Ost-West-Treffen - Romano Guardini
DESCRIPTION:Frühlingstreffen 2018\nVon Freitag\, dem 9. März 2018 bis Sonntag\, den 11. März 2018 auf Burg Rothenfels am Main. \nFrau Prof. Dr. Hanna-Barbara Gerl-Falkovitz spricht über Romano Guardini (zum fünfzigsten Todestag von Romano Guardini am 1. Oktober 2018).
URL:https://www.quickborn-ak.de/event/ost-west-treffen-romano-guardini/
LOCATION:Burg Rothenfels\, Bergrothenfelser Str. 71\, Rothenfels\, Bayern\, 97851
CATEGORIES:Treffen des Quickborn-Älterenbundes,Veranstaltungen auf der Burg
ATTACH;FMTTYPE=image/jpeg:https://www.quickborn-ak.de/wp-content/uploads/698px-Guardini_auf_rothenfels-e1645009906784.jpg
END:VEVENT
END:VCALENDAR