BEGIN:VCALENDAR
VERSION:2.0
PRODID:-//Quickborn-AK - ECPv6.15.20//NONSGML v1.0//EN
CALSCALE:GREGORIAN
METHOD:PUBLISH
X-ORIGINAL-URL:https://www.quickborn-ak.de
X-WR-CALDESC:Veranstaltungen für Quickborn-AK
REFRESH-INTERVAL;VALUE=DURATION:PT1H
X-Robots-Tag:noindex
X-PUBLISHED-TTL:PT1H
BEGIN:VTIMEZONE
TZID:Europe/Berlin
BEGIN:DAYLIGHT
TZOFFSETFROM:+0100
TZOFFSETTO:+0200
TZNAME:CEST
DTSTART:20160327T010000
END:DAYLIGHT
BEGIN:STANDARD
TZOFFSETFROM:+0200
TZOFFSETTO:+0100
TZNAME:CET
DTSTART:20161030T010000
END:STANDARD
BEGIN:DAYLIGHT
TZOFFSETFROM:+0100
TZOFFSETTO:+0200
TZNAME:CEST
DTSTART:20170326T010000
END:DAYLIGHT
BEGIN:STANDARD
TZOFFSETFROM:+0200
TZOFFSETTO:+0100
TZNAME:CET
DTSTART:20171029T010000
END:STANDARD
BEGIN:DAYLIGHT
TZOFFSETFROM:+0100
TZOFFSETTO:+0200
TZNAME:CEST
DTSTART:20180325T010000
END:DAYLIGHT
BEGIN:STANDARD
TZOFFSETFROM:+0200
TZOFFSETTO:+0100
TZNAME:CET
DTSTART:20181028T010000
END:STANDARD
END:VTIMEZONE
BEGIN:VEVENT
DTSTART;VALUE=DATE:20171006
DTEND;VALUE=DATE:20171009
DTSTAMP:20260422T161112
CREATED:20190216T114827Z
LAST-MODIFIED:20260105T201037Z
UID:6717-1507248000-1507507199@www.quickborn-ak.de
SUMMARY:Ost-West-Treffen - Pragmatismus – Populismus
DESCRIPTION:Pragmatismus – Populismus\nHerbsttreffen 2017 von Freitag\, dem 6. Oktober 2017 bis Sonntag\, den 8. Oktober 2017 in Zwochau bei Leipzig. \nProf. Dr. Bernhard Husemann spricht über:„Pragmatismus – Populismus“ \n„Ein Gespenst geht um in Europa“: Populistische Parteien und Bewegungen treten in vielen Staaten Europas und der Welt auf und werden aggressiver.Populisten sind die Vereinfacher.Muss man sich davor fürchten? Sind sie eine Gefahr für unsere Demokratie? \nAnmeldungen erbitten wir per Post (auf dem Formular unten) oder E-Mail an: \nIngeborg BognerSperberweg 12 B82152 KraillingTel. 089 / 8573972E-Mail: ingeborg.bogner@gmx.de \nVielen Dank
URL:https://www.quickborn-ak.de/event/ost-west-treffen-pragmatismus-populismus/
LOCATION:Mariapoli-Begegnungszentrum Zwochau\, Hallesche Straße 38\, Wiedemar\, Sachsen\, 04509
CATEGORIES:Treffen des Quickborn-Älterenbundes
ATTACH;FMTTYPE=image/jpeg:https://www.quickborn-ak.de/wp-content/uploads/g8be1dcca867b8a875de0c7a061481c9eddc0de7b32da442643f4b25700dfb2897807f6754be47de74773e1e58bdc4581a7d97bce98c88bd73b4809069709b6d1_1280-1872439.jpg
END:VEVENT
END:VCALENDAR