BEGIN:VCALENDAR
VERSION:2.0
PRODID:-//Quickborn-AK - ECPv6.15.20//NONSGML v1.0//EN
CALSCALE:GREGORIAN
METHOD:PUBLISH
X-ORIGINAL-URL:https://www.quickborn-ak.de
X-WR-CALDESC:Veranstaltungen für Quickborn-AK
REFRESH-INTERVAL;VALUE=DURATION:PT1H
X-Robots-Tag:noindex
X-PUBLISHED-TTL:PT1H
BEGIN:VTIMEZONE
TZID:Europe/Berlin
BEGIN:DAYLIGHT
TZOFFSETFROM:+0100
TZOFFSETTO:+0200
TZNAME:CEST
DTSTART:20160327T010000
END:DAYLIGHT
BEGIN:STANDARD
TZOFFSETFROM:+0200
TZOFFSETTO:+0100
TZNAME:CET
DTSTART:20161030T010000
END:STANDARD
BEGIN:DAYLIGHT
TZOFFSETFROM:+0100
TZOFFSETTO:+0200
TZNAME:CEST
DTSTART:20170326T010000
END:DAYLIGHT
BEGIN:STANDARD
TZOFFSETFROM:+0200
TZOFFSETTO:+0100
TZNAME:CET
DTSTART:20171029T010000
END:STANDARD
BEGIN:DAYLIGHT
TZOFFSETFROM:+0100
TZOFFSETTO:+0200
TZNAME:CEST
DTSTART:20180325T010000
END:DAYLIGHT
BEGIN:STANDARD
TZOFFSETFROM:+0200
TZOFFSETTO:+0100
TZNAME:CET
DTSTART:20181028T010000
END:STANDARD
END:VTIMEZONE
BEGIN:VEVENT
DTSTART;VALUE=DATE:20170417
DTEND;VALUE=DATE:20170423
DTSTAMP:20260424T051342
CREATED:20190216T113229Z
LAST-MODIFIED:20260104T161607Z
UID:6705-1492387200-1492905599@www.quickborn-ak.de
SUMMARY:Osterfreizeit - Schlaf - zwischen unruhigen Nächten und schönen Träumen!
DESCRIPTION:Schlaf – zwischen unruhigen Nächten und schönen Träumen!\n\nDurch einen sich verändernden Schlafrhythmus\, dem die frühen Schulzeiten im Wege stehen\, bekommen viele Jugendliche zu wenig Schlaf\, obwohl gerade sie mehr brauchen als Erwachsene. \nAuf der kommenden Ostertagung werden wir uns  sehr intensiv mit dem speziellen Schlafrhythmus unseres Alters beschäftigen und damit\, wozu Schlaf gut ist\, welche Arten und Schlafphasen es gibt und wie diese mit der Gesundheit und dem persönlichen Wohlbefinden zusammenhängen. Dabei werden wir auch verschiedene Schlafstörungen kennenlernen und schlaffördernde Techniken\, wie zum Beispiel autogenes Training. \nIm Mittelpunkt stehen die bewusstere Wahrnehmung und Reflexion der eigenen Schlafgewohnheiten\, sowie selbständiges Entwickeln von Lösungsansätzen für eventuelle Probleme. \nOstertagung der Jugendlichen im Quickborn Arbeitskreis\nUnsere Tagung (für Jugendliche ab 14 Jahren) findet wie immer in der Woche nach Ostern\, also vom 17. April (Beginn gegen 16:30 Uhr) bis zum 22. April 2017 (Ende gegen 12:00 Uhr) statt. Dieses Jahr treffen wir uns wieder auf St. Benedikt in der Nähe von Offenburg (Schottenhöfen 8\, 77787 Nordrach). \nZiel für die Bahnreisenden ist der Bahnhof Biberach (Baden). Bei dem Freizeithaus St. Benedikt handelt es sich um ein Selbstversorgerhaus im Schwarzwald. Neben der thematischen Arbeit kommt der dazugehörige Spaßfaktor natürlich nicht zu kurz. Ob beim gemeinsamen Kochen\, Lagerfeuer-Abenden\, Ausflügen\, Entspannung oder lustigen Spielen; wir sind gespannt auf ein buntes Programm mit Euch und viel gemeinsamer Zeit. \nWir freuen uns über eure Anmeldungen! Natürlich hoffen wir\, neben den Jugendlichen des Quickborns auch ein paar neue Gesichter begrüßen zu dürfen. Der Teilnahmebeitrag liegt bei 25 Euro für Mitglieder und 40 Euro für Nicht-Mitglieder. Zuschüsse können beantragt werden. \nWer uns Anregungen oder Wünsche für die Osterwerkwoche mitteilen will\, kann dies unter fabian.ehret@quickborn-ak.de gerne tun. \nEuer Sprecherteam der Jüngeren \nChiara\, Fabian\, Hannah\, Simon\, Tabea\, Kilian
URL:https://www.quickborn-ak.de/event/osterfreizeit-schlaf-zwischen-unruhigen-naechten-und-schoenen-traeumen/
LOCATION:Gruppenhaus St. Benedikt\, Schottenhöfen 8\, Nordrach\, Baden-Württemberg\, 77787
CATEGORIES:Osterfreizeit,Veranstaltung für die Jugend
ATTACH;FMTTYPE=image/jpeg:https://www.quickborn-ak.de/wp-content/uploads/2018/01/Startseite-Ostertagung-Grafik-St.Benedikt.jpg
END:VEVENT
END:VCALENDAR